BEGIN:VCALENDAR
VERSION:2.0
PRODID:-//wp-events-plugin.com//7.2.3.1//EN
TZID:Europe/Zurich
X-WR-TIMEZONE:Europe/Zurich
METHOD:PUBLISH
BEGIN:VEVENT
UID:1963@hpsl-linguistics.org
DTSTART;TZID=Europe/Berlin:20260430T141500
DTEND;TZID=Europe/Berlin:20260430T154500
DTSTAMP:20260423T080707Z
URL:https://www.hpsl-linguistics.org/events/gladys-camacho-rios-morphologi
 cal-contact-in-complex-quechua-verbs-lecture-series-language-communication
 -cognition/
ORGANIZER;CN=Uta Reinöhl:MAILTO:uta.reinoehl@linguistik.uni-freiburg.de
NAME:Gladys Camacho Ríos: "Morphological contact in complex Quechua verbs" (Lec
 ture Series: Language\, Communication & Cognition)
X-WR-CALNAME:Gladys Camacho Ríos: "Morphological contact in complex Quechua verbs" (Lec
 ture Series: Language\, Communication & Cognition)
SUMMARY:Gladys Camacho Ríos: "Morphological contact in complex Quechua ver
 bs" (Lecture Series: Language\, Communication & Cognition)
CATEGORIES:Research Colloquium
LOCATION:HS1016\, Platz der Universität 3\, Platz der Universität 3\, Fre
 iburg im Breisgau\, 79098\, Germany
X-APPLE-STRUCTURED-LOCATION;VALUE=URI;X-ADDRESS=Platz der Universität 3\, 
 Freiburg im Breisgau\, 79098\, Germany;X-APPLE-RADIUS=100;X-TITLE=HS1016\,
  Platz der Universität 3:geo:0,0
END:VEVENT
BEGIN:VTIMEZONE
TZID:Europe/Berlin
X-LIC-LOCATION:Europe/Berlin
BEGIN:DAYLIGHT
DTSTART:20260329T030000
TZOFFSETFROM:+0100
TZOFFSETTO:+0200
TZNAME:CEST
END:DAYLIGHT
END:VTIMEZONE
END:VCALENDAR